BEGIN:VCALENDAR
VERSION:2.0
PRODID:-//Collaborative Law Institute - ECPv6.8.3//NONSGML v1.0//EN
CALSCALE:GREGORIAN
METHOD:PUBLISH
X-WR-CALNAME:Collaborative Law Institute
X-ORIGINAL-URL:https://collaborativelaw.org
X-WR-CALDESC:Events for Collaborative Law Institute
REFRESH-INTERVAL;VALUE=DURATION:PT1H
X-Robots-Tag:noindex
X-PUBLISHED-TTL:PT1H
BEGIN:VTIMEZONE
TZID:America/Indiana/Knox
BEGIN:DAYLIGHT
TZOFFSETFROM:-0600
TZOFFSETTO:-0500
TZNAME:CDT
DTSTART:20230312T080000
END:DAYLIGHT
BEGIN:STANDARD
TZOFFSETFROM:-0500
TZOFFSETTO:-0600
TZNAME:CST
DTSTART:20231105T070000
END:STANDARD
BEGIN:DAYLIGHT
TZOFFSETFROM:-0600
TZOFFSETTO:-0500
TZNAME:CDT
DTSTART:20240310T080000
END:DAYLIGHT
BEGIN:STANDARD
TZOFFSETFROM:-0500
TZOFFSETTO:-0600
TZNAME:CST
DTSTART:20241103T070000
END:STANDARD
BEGIN:DAYLIGHT
TZOFFSETFROM:-0600
TZOFFSETTO:-0500
TZNAME:CDT
DTSTART:20250309T080000
END:DAYLIGHT
BEGIN:STANDARD
TZOFFSETFROM:-0500
TZOFFSETTO:-0600
TZNAME:CST
DTSTART:20251102T070000
END:STANDARD
END:VTIMEZONE
BEGIN:VEVENT
DTSTART;TZID=America/Indiana/Knox:20250204T130000
DTEND;TZID=America/Indiana/Knox:20250204T140000
DTSTAMP:20260419T132332
CREATED:20250127T163158Z
LAST-MODIFIED:20250127T163359Z
UID:10966-1738674000-1738677600@collaborativelaw.org
SUMMARY:IACP Training | Practice Group Quarterly Gathering (Click here for details)
DESCRIPTION:Register here\n			\n				\n				\n				\n				\n				  \nExclusively for IACP members\, this meeting offers a dynamic forum for current and aspiring practice group leaders\, as well as anyone passionate about enhancing their group’s experience. We’ll explore key trends in membership\, share successes\, and discuss the latest developments in the legislative landscape. \nSchedule:Date: February 4\, 2025Time: 1:00 – 2:00 PM CT \nQuestions?Dolores Puppione | info@collaborativepractice.comIACP Senior Manager of Membership Operations
URL:https://collaborativelaw.org/event/iacp_practice_group_quarterly_gathering/
LOCATION:Virtual
CATEGORIES:IACP Training
ATTACH;FMTTYPE=image/png:https://collaborativelaw.org/wp-content/uploads/2024/07/IACP-Training-Event-calendar-Post-1200x1200px.png
END:VEVENT
BEGIN:VEVENT
DTSTART;TZID=America/Indiana/Knox:20241121T120000
DTEND;TZID=America/Indiana/Knox:20241121T130000
DTSTAMP:20260419T132332
CREATED:20241024T142801Z
LAST-MODIFIED:20241024T165941Z
UID:10638-1732190400-1732194000@collaborativelaw.org
SUMMARY:Evaluation Services Provided at Metropolitan Rehabilitation Services (Click here for details)
DESCRIPTION:Click here to register\n			\n				\n				\n				\n				\n				Date: Thursday\, November 21\, 2024Title: Evaluation Services provided at Metropolitan Rehabilitation ServicesPresenter: Dr. Justin M. King\, PsyD.\, LP\, CRC\, D/ABVEMetropolitan Rehabilitation Servicesinfo@metrorehab.org | Ph: 612-333-2155 | www.metrorehab.org/Description of Program: Metropolitan Rehabilitation Services provides a variety of evaluations to diverse clientele outside of the marital dissolution venue.  This presentation will review the evaluation procedure for dissolution referrals and also discuss the variety of services we provide which can intersect with divorce proceedings.Time:     11:45 AM Attendees begin to login11:55 AM Announcements and introductions12:00 PM – 1:00 PM PresentationCost:      CLI Members and non-members: $25CLI Student Members\, CLI Emeritus Members: $0CLI Annual Partners: $0Continuing Education:   1.0 credit PENDING MN CLECertificate of attendance for self-filing for MN Psych BOD\, LMFT\, LICSW & ADR.Cancellation: Refunds for registration will be processed if notice of cancellation is received by 11/15/24. Educational Level: OverviewTraining Committee Chairs:Louise Livesay-Al | louise@livesaylawoffice.comRebecca Randen | rebecca@rcglawoffice.comFor questions on registration contact: Sandy Beeson: cli@collaborativlaw.org
URL:https://collaborativelaw.org/event/cli-training-nov-21/
LOCATION:Zoom
CATEGORIES:Training
ATTACH;FMTTYPE=image/png:https://collaborativelaw.org/wp-content/uploads/2024/10/Nov-21-2024-Zoom-Training-LinkedIn-1200x1200px.png
END:VEVENT
BEGIN:VEVENT
DTSTART;TZID=America/Indiana/Knox:20240926T130000
DTEND;TZID=America/Indiana/Knox:20240926T161500
DTSTAMP:20260419T132332
CREATED:20240716T215942Z
LAST-MODIFIED:20240802T173857Z
UID:10355-1727355600-1727367300@collaborativelaw.org
SUMMARY:Collaborative Practice Values and Ethics: Learning from the Mayo Clinic Model (Click here for details)
DESCRIPTION:Register here\n			\n				\n				\n				\n				\n				Date: Thursday\, September 26\, 2024Title: Collaborative Practice Values and Ethics: Learning from the Mayo Clinic model in using core values to help focus on the needs of clients and their familiesPresenter: Judith H. JohnsonCollaborative Practice Attorney – “Resolving Disputes Respectfully”www.collaborativedivorceminnesota.comDescription of TrainingWhat are the unique practice values and professional ethics that Collaborative Professionals bring to their work with clients and families? How are they similar (or different) from the practice values of the Mayo Clinic model? Collaborative Professionals bring so much heart into their work – how can we be more intentional about using that focus to bring greater value to our work\, for the sake of our clients and their families? Part of “going viral” with our service is making sure that client experience is consistently something empowering for them personally\, that they feel compelled to share with others – how can consistency in delivering that “viral” service also help to grow our message to couples who need us?Location: 3300 Edinborough Way\, Edina\, MN 55435\, 1st Floor Training RoomTime:12:00 PM Lunch (Optional)12:50 PM Announcements and introductions1:00 PM Presentation Begins2:30 PM Break2:45 PM Presentation4:15 PM Presentation EndsCost:CLI Members and non-members:Lunch & Presentation: $60Presentation only: $50CLI Student Members\, CLI Emeritus Members:Lunch & Presentation: $10Presentation only: $0CLI Annual Partners: $0Continuing Education:3.0 credit PENDING MN CLE (2 Standard\, 1 Ethics)3.0 credit PENDING MN BOD of Psychology3.0 credit PENDING LMFTCertificate of attendance for self-filing for LICSW & ADR. \nInstructional Materials for Attendees:  \nWe are also asking\, as part of our collaboration with Mayo Clinic Patient Experience this year\, that attendees purchase in advance of this training\, the little book “Mayo Clinic Values: A Field Guide for Your Journey”\, from Mayo Clinic Presshttps://mcpress.mayoclinic.org/product/the-little-book-of-mayo-clinic-values/       \nCancellation: Refunds for registration will be processed if notice of cancellation is received by 9/20/24.Who Should Attend: CLI Members\, Family Law ProfessionalsEducational Level: Overview \nQuestions?Registration: Sandy Beeson 952.405.2010 | cli@collaborativelaw.orgTraining Chairs:Louise Livesay-Al | louise@livesaylawoffice.comRebecca Randen | rebecca@randenlaw.com
URL:https://collaborativelaw.org/event/collaborative_practice_values_and_ethics_learning_from_the_-mayo_clinic_model_focus_clients_families/
LOCATION:Edinborough Corporate Center\, 3300 Edinborough Way\, 1st Floor Conference Room\, Edina\, MN\, 55435\, United States
CATEGORIES:Training
ATTACH;FMTTYPE=image/png:https://collaborativelaw.org/wp-content/uploads/2024/07/September-26-2024-J.Johnson-CLI-Presentation-LinkedIn-1200x1200px-1.png
END:VEVENT
BEGIN:VEVENT
DTSTART;TZID=America/Indiana/Knox:20240912T090000
DTEND;TZID=America/Indiana/Knox:20240912T120000
DTSTAMP:20260419T132332
CREATED:20240207T173224Z
LAST-MODIFIED:20240826T174520Z
UID:9229-1726131600-1726142400@collaborativelaw.org
SUMMARY:CLI New Collaborative Experience Tune Up Training  (Click here for details)
DESCRIPTION:Register here\n			\n				\n				\n				\n				\n				Topic: CLI New Collaborative Experience Training Tune-up\nDate: September 12\, 2024\nTime: 9:00 AM – 12 Noon\nLocation: Virtual on Zoom (This is a change from the originally planned in-person location in Edina) \nDescription: Attendees of the New Collaborative Experience have had some time to think about working Collaborative practice into their businesses.  This session is a chance to come back and work on specific needs identified through a survey sent to trainees to help fill the gaps and refresh as needed. \nIn response to the survey (Click here to start the survey) from participants who attended the NCE we will be discussing: \n\nEnrolling the Client\nHow to talk about Neutrals\nHow to get the spouse on board with CP\nPaperwork needed for CP\nMarketing\n*In case you have not completed the NCE Training Tune-up survey\, here is the link\n\nFee: $0\nCE: None\nMaterials: Provided to registered attendees in an email\nSpeakers: Training Committee members based on results of survey \nTraining Committee Chairs:\nLouise Livesay-Al |  louise@livesaylawoffice.com\nRebecca Randen | rebecca@randenlaw.com \nFor questions on registration\, contact: Sandy Beeson: cli@collaborativelaw.org \nThank you to our Annual Partner Sponsors for their continuing support of CLI! Click here to learn more about our Supporting Partners
URL:https://collaborativelaw.org/event/collaborative-law-institute-of-minnesota-tune-up-training-for-new-collaborative-experience-training-attendees/
LOCATION:Zoom
CATEGORIES:Training
ATTACH;FMTTYPE=image/png:https://collaborativelaw.org/wp-content/uploads/2024/02/NCE-Tune-up-Training-2024-LinkedIn-Post.png
END:VEVENT
BEGIN:VEVENT
DTSTART;TZID=America/Indiana/Knox:20240613T160000
DTEND;TZID=America/Indiana/Knox:20240613T183000
DTSTAMP:20260419T132332
CREATED:20240523T144051Z
LAST-MODIFIED:20240523T161804Z
UID:10277-1718294400-1718303400@collaborativelaw.org
SUMMARY:East Metro Group Happy Hour
DESCRIPTION:The CLI MN East Metro Group invites you to join their Happy Hour on Thursday June 13 from 4 – 6:30 pm
URL:https://collaborativelaw.org/event/east-metro-group-happy-hour/
LOCATION:W.A. Frost\, 374 Selby Avenue\, St. Paul\, MN\, 55102\, United States
CATEGORIES:Member Social
ATTACH;FMTTYPE=image/png:https://collaborativelaw.org/wp-content/uploads/2024/05/Happy-Hour-6.13.24-East-Metro-Regional-Grp.png
ORGANIZER;CN="CLI MN East Metro Regional Group":MAILTO:brian@mnrelationshiprepair.com
END:VEVENT
BEGIN:VEVENT
DTSTART;VALUE=DATE:20231207
DTEND;VALUE=DATE:20231209
DTSTAMP:20260419T132332
CREATED:20230809T175022Z
LAST-MODIFIED:20231129T232419Z
UID:8876-1701907200-1702079999@collaborativelaw.org
SUMMARY:CLI Annual Forum 2023 (Click for details)
DESCRIPTION:Forum Registration\n			\n				\n				\n				\n				\n				Every December our Collaborative community has a wonderful opportunity to gather for our Annual Forum.The Forum is a time and place to connect with colleagues\, become informed and educated about important professional topics\, regenerate our passion and enthusiasm for our Collaborative work\, and have fun!You won’t want to miss this opportunity. We so look forward to seeing you and hope you will join us! \nEvent Details:What: CLI Minnesota Forum 2023Theme: Creativity in Collaborative PracticeDates & Times:Thursday\, December 7\, 20238:30 AM – 4:15 PM Educational sessions\, time with exhibitors3:15 PM Special Breakout session for students and non-member professionals to learn more about Collaborative Practice.4:15 PM Happy Hour6:00 PM Dinner7:30 PM AJW Fun FactorFriday\, December 8\, 20238:30 AM – 12:00 PM Annual Meeting\, educational sessionsFull Agenda: Click hereLocation: InterContinental Saint Paul Riverfront Hotel |11Kellogg Blvd. East\, Saint Paul\, MN 55101Menu:BREAKFAST BOTH DAYS: ContinentalLUNCH THURSDAY: Sandwich Shop Buffet:DESSERT BUFFET: Cookies and barsHAPPY HOUR APPETIZERS and CASH BARDINNER: Baby Beet and Arugula Salad with Candied Walnuts: Creamy Goat Cheese\, Citrus\, Orange-Vanilla Vinaigrette.Choice of:Sautéed Salmon | Paella Rice\, Meyer Lemon SabayonSeared Chicken | Natural Pan Sauce\, Smoked Gouda Mashed PotatoButternut Squash Ravioli | Mascarpone Sage Cream Sauce\, Sauteed Spinach\, Balsamic ReductionDessert: Lemon TartCost:CLI members must login to their online account to receive member pricing. \nALL PACKAGES WITH HOTEL ROOMS ARE SOLD OUT. PLEASE REGISTER WITOUT HOTEL AND CONTACT THE HOTEL DIRECTLY FOR AVAILABILITY OF A ROOM. \nBoth Days\, with overnight\, with dinner: SOLD OUT Both days\, no overnight\, with dinner:Includes both Thursday & FridayIncludes Thursday Lunch & DinnerIncludes Thursday Evening EntertainmentMember: $375Non-member: $450 \nBoth days\, no overnight\, no dinner:Includes both Thursday & FridayIncludes Thursday LunchIncludes Thursday Evening EntertainmentMember: $350Non-member: $425Thursday only\, with overnight\, with dinner: SOLD OUT \nThursday only\, no overnight\, with dinner:Includes ThursdayIncludes Thursday Lunch & DinnerIncludes Thursday Evening EntertainmentMember: $225Non-member: $300 \nThursday only\, no overnight\, no dinner:Includes ThursdayIncludes Thursday lunchMember: $175Non-member: $250 \nThursday dinner onlyMember: $50Non-member: $75 \nFriday Only:Includes FridayMember: $100Non-member: $175 \nContinuing Education: (See agenda for specific credits)CLE: Standard (X) credits pendingLMFT & MN Board of Psychology: Standard credits (X) pendingLICSW & ADR: A self-filing certificate will be provided (X possible) \nSpecial Breakout Session for Students and Family Law Professionals Thursday 3:15 PM | CLICK HERE TO RSVP FOR THIS SESSION ONLYA special opportunity for Students and non-member professionals interested in learning about Collaborative Practice.Registrants for this special session are invited to stay for the networking happy hour following the informational session\, and for the add-on cost of $30\, stay for dinner.Cost for Students and non-CLI member professionals to attend the3:15 PM Breakout Session: Attend the 3:15 Breakout Session & happy hour: $0Dinner add-on: $30 \n Deadlines\, Cancellations\, Parking:-Deadline for registration with a hotel room is November 24.-We can only guarantee an overnight room at the Hotel for the first 35 registrants\, so please register EARLY!-The deadline for Forum registration without a hotel is November 28.-Refunds for Forum registration cancellation will be processed if notice of cancellation is received on or before November 17.-While the room rate is included in the Forum attendance fee\, attendees will be responsible for incidental charges to their reserved room.-Hotel check-in is 3PM. Luggage may be checked with the valet.-Check-out time is 11AM.-Parking: Parking is available through the valet service at prevailing rates or nearby surface lots. \n Agenda: Click hereSponsorship Packages available Click here \nSponsors Supporting the CLI Mission and Forum 2023Annual Platinum PartnerRainbow Mortgage\, Inc. www.rainbowmortgageinc.com | Dave Jamison \nAnnual Gold PartnersOurFamilyWizard www.ourfamilywizard.com | Racheal Howitz \nKeller Williams Integrity Realty www.pickle.properties | Lisa Proechel \nThe Prudden Company www.pruddencompany.com | Amber Tyrrell \nAnnual Silver SponsorsBaker Vicchiollo Law LLC www.mnlaw.us | Jolene Baker Vicchiollo \nCrossCountry Mortgage\, LLC www.crosscountrymortgage.com/brett-leschinsky Brett Leschinsky \nEdina Realty www.edinarealty.com/jennifer-morris-realtor# | Jennifer Morris \nSponsors Supporting the Forum 2023 \nForum Breakfast SponsorThe Katallasso Group www.thekatallassogroup.com | Lisa Welter \nForum Lunch SponsorCultivating Joy www.cultivatingjoycoach.com | Jillian Lydell \nForum Dessert SponsorFamily Law Software www.familylawsoftware.com| Nancy Shafer \nForum Charging StationAlerus Mortgage www.RandiLivon.com | Randi Livon \nForum Materials PacketLear Appraisals\, LLC learappraisals@popp.net | Bob Lear \nForum Happy Hour SponsorThomson Reuters www.ThomsonReuters.com | Ryan Tauer & Steve Stauff \nForum Evening Social SponsorAJW Financial\, Inc. www.ajwfinancial.com  | Amy Wolff
URL:https://collaborativelaw.org/event/collaborative_law_institute_minnesota-annual-forum-2023/
LOCATION:Saint Paul InterContinential Riverfront Hotel\, 11 Kellogg Blvd. East\, Saint Paul\, 55101\, United States
CATEGORIES:Event
ATTACH;FMTTYPE=image/png:https://collaborativelaw.org/wp-content/uploads/2023/09/Forum-CLI-2023-Registration-is-Open-FB-Post.png
END:VEVENT
BEGIN:VEVENT
DTSTART;TZID=America/Indiana/Knox:20230907T090000
DTEND;TZID=America/Indiana/Knox:20230907T123000
DTSTAMP:20260419T132332
CREATED:20230617T171835Z
LAST-MODIFIED:20230822T195743Z
UID:8612-1694077200-1694089800@collaborativelaw.org
SUMMARY:CLI NCE Tune-up Training
DESCRIPTION:Topic: CLI New Collaborative Experience  Tune-up TrainingDescription: Attendees of the New Collaborative Experience have had some time to think about working Collaborative practice into their businesses.  This session is a chance to come back and work on specific needs identified through a survey sent to trainees to help fill the gaps and refresh as needed. \nIn response to the survey from participants who attended the NCE we will be discussing: \n\nEnrolling the Client\nHow to talk about Neutrals\nHow to get the spouse on board with CP\nPaperwork needed for CP\nMarketing\n\nDate: September 7\, 2023Time: 9:00 AM – 12 NoonLocation: 3300 Edinborough Way\, Edina\, MN 55435 | First floor training room \nFee: $0Food: Light snacks and refreshmentsCE: NoneMaterials: Provided at the trainingSpeakers: Training Committee members based on results of survey \nTraining Committee Chairs:Louise Livesay-Al | louise@livesaylawoffice.comRebecca Randen | rebecca@rcglawoffice.comFor questions on registration contact: Sandy Beeson: cli@collaborativlaw.org \nRegister here >
URL:https://collaborativelaw.org/event/new-collaborative-experience-tune-up-training/
LOCATION:Edinborough Corporate Center\, 3300 Edinborough Way\, 1st Floor Conference Room\, Edina\, MN\, 55435\, United States
CATEGORIES:Training
ATTACH;FMTTYPE=image/png:https://collaborativelaw.org/wp-content/uploads/2023/06/Tune-up-Training-CLI-MN-NCE-Training-2023-FB-Post.png
END:VEVENT
BEGIN:VEVENT
DTSTART;TZID=America/Indiana/Knox:20230815T093000
DTEND;TZID=America/Indiana/Knox:20230815T113000
DTSTAMP:20260419T132332
CREATED:20230720T203616Z
LAST-MODIFIED:20230809T173854Z
UID:8794-1692091800-1692099000@collaborativelaw.org
SUMMARY:The Transformation of the Collaborative Paradigm Shift (From Duality to Non-duality)
DESCRIPTION:This Course is revolutionary training to stabilize the inner aspects of collaboration. If and when a participant “understands’ and is willing to make the non-dual paradigm shift\, universal love is naturally always present for them for collaborative work without effort to maintain it.  This inner power of love works then with the outer aspects of collaboration to enhance collaborative practice for the clients. Details and registration at Click here
URL:https://collaborativelaw.org/event/training-august-15-2023/
LOCATION:Edinborough Corporate Center\, 3300 Edinborough Way\, 1st Floor Conference Room\, Edina\, MN\, 55435\, United States
CATEGORIES:Training
ATTACH;FMTTYPE=image/png:https://collaborativelaw.org/wp-content/uploads/2023/07/1-8.15.23-CLI-Training-FB-Post.png
END:VEVENT
BEGIN:VEVENT
DTSTART;TZID=America/Indiana/Knox:20230726T120000
DTEND;TZID=America/Indiana/Knox:20230726T133000
DTSTAMP:20260419T132332
CREATED:20230720T221318Z
LAST-MODIFIED:20230720T221946Z
UID:8815-1690372800-1690378200@collaborativelaw.org
SUMMARY:Unlocking Divorce Mortgage Success: Empowering Attorneys with Key Strategies for Streamlined Property Division and Optimal Client Solutions
DESCRIPTION:Attention all divorce attorneys!\nAre you ready to revolutionize your approach to divorce cases and empower your clients with tailored mortgage solutions?\nHosted by the Collaborative Law Institute of Minnesota\, this exclusive seminar where we will delve into the intricacies of mortgage options in divorce proceedings. In just 90 minutes\, you’ll gain invaluable insights and strategies to navigate the complex intersection of divorce and mortgages. From understanding credit considerations to financing buyouts and collaborating with mortgage professionals\, this seminar will equip you with the tools needed to achieve optimal outcomes for your clients.  Details and registration at Click here
URL:https://collaborativelaw.org/event/unlocking-divorce-mortgage-success-empowering-attorneys-with-key-strategies-for-streamlined-property-division-and-optimal-client-solutions/
LOCATION:Edinborough Corporate Center\, 3300 Edinborough Way\, 1st Floor Conference Room\, Edina\, MN\, 55435\, United States
CATEGORIES:Training
ATTACH;FMTTYPE=image/png:https://collaborativelaw.org/wp-content/uploads/2023/06/July-26-2023-Unlocking-Mortgage-Success-FB-Graphic.png
END:VEVENT
BEGIN:VEVENT
DTSTART;TZID=America/Indiana/Knox:20230621T120000
DTEND;TZID=America/Indiana/Knox:20230621T130000
DTSTAMP:20260419T132332
CREATED:20230615T230221Z
LAST-MODIFIED:20230615T230658Z
UID:8604-1687348800-1687352400@collaborativelaw.org
SUMMARY:Lunch and Learn
DESCRIPTION:To join us\, just click this link at Noon on June 21:https://us02web.zoom.us/j/81195445335Meeting ID: 811 9544 5335One tap mobile +13126266799\,\,81195445335# US (Chicago)Dial by your location +1 312 626 6799 US (Chicago) \nClick here to RSVPPresentation Title: CLI – Let’s Get Blogging!Presenter: CLI Public Education & Tech CommitteesDate: Wednesday\, June 21\, 2023Time: 12:00 PM – 1:00 PMLocation: Zoom.Fee: No fee to attend.CE: NoneWho should attend: All members and sponsors of CLI MN and any family law professional interested in CP and CLI MNFor questions on registration contact: Sandy Beeson: cli@collaborativelaw.org
URL:https://collaborativelaw.org/event/lunch-and-learn/
LOCATION:Zoom
CATEGORIES:Event,Lunch & Learn
ATTACH;FMTTYPE=image/png:https://collaborativelaw.org/wp-content/uploads/2023/05/June-21-023-Lunch-Learn-Blogging-FB-Size.png
END:VEVENT
END:VCALENDAR