BEGIN:VCALENDAR
VERSION:2.0
PRODID:-//Collaborative Law Institute - ECPv6.8.3//NONSGML v1.0//EN
CALSCALE:GREGORIAN
METHOD:PUBLISH
X-WR-CALNAME:Collaborative Law Institute
X-ORIGINAL-URL:https://collaborativelaw.org
X-WR-CALDESC:Events for Collaborative Law Institute
REFRESH-INTERVAL;VALUE=DURATION:PT1H
X-Robots-Tag:noindex
X-PUBLISHED-TTL:PT1H
BEGIN:VTIMEZONE
TZID:America/Indiana/Knox
BEGIN:DAYLIGHT
TZOFFSETFROM:-0600
TZOFFSETTO:-0500
TZNAME:CDT
DTSTART:20250309T080000
END:DAYLIGHT
BEGIN:STANDARD
TZOFFSETFROM:-0500
TZOFFSETTO:-0600
TZNAME:CST
DTSTART:20251102T070000
END:STANDARD
BEGIN:DAYLIGHT
TZOFFSETFROM:-0600
TZOFFSETTO:-0500
TZNAME:CDT
DTSTART:20260308T080000
END:DAYLIGHT
BEGIN:STANDARD
TZOFFSETFROM:-0500
TZOFFSETTO:-0600
TZNAME:CST
DTSTART:20261101T070000
END:STANDARD
BEGIN:DAYLIGHT
TZOFFSETFROM:-0600
TZOFFSETTO:-0500
TZNAME:CDT
DTSTART:20270314T080000
END:DAYLIGHT
BEGIN:STANDARD
TZOFFSETFROM:-0500
TZOFFSETTO:-0600
TZNAME:CST
DTSTART:20271107T070000
END:STANDARD
TZID:America/Chicago
BEGIN:DAYLIGHT
TZOFFSETFROM:-0600
TZOFFSETTO:-0500
TZNAME:CDT
DTSTART:20250309T080000
END:DAYLIGHT
BEGIN:STANDARD
TZOFFSETFROM:-0500
TZOFFSETTO:-0600
TZNAME:CST
DTSTART:20251102T070000
END:STANDARD
END:VTIMEZONE
BEGIN:VEVENT
DTSTART;TZID=America/Indiana/Knox:20250204T110000
DTEND;TZID=America/Indiana/Knox:20250515T130000
DTSTAMP:20260419T103112
CREATED:20240731T143905Z
LAST-MODIFIED:20250519T213943Z
UID:10379-1738666800-1747314000@collaborativelaw.org
SUMMARY:IACP Training | Certified Parent Team Expert (Click here for details)
DESCRIPTION:Register here\n			\n				\n				\n				\n				\n				Consider adding this multi-disciplinary\, comprehensive course to your 2025 Professional Development plan. This transformative training is built on the innovative strategies of Parent Team\, a company focused on developing resources for professionals to support two-home families. \nThe Certified Parent Team Expert™ Training will equip both novice and experienced professionals with actionable strategies and tools to navigate high-complexity situations\, enhance outcomes and grow your practice. \nSchedule:February – May 2025 (Tuesday and Thursday 11am to 1pm MT)Recorded Zoom Calls so you can join live or later \nQuestions?  CLICK HERE to be redirected to the Parent Team Expert Training home page. \nWhat is included in the training:  \n\n40-Hour Mediation Training integrated into:\nCollaborative Practice Basic Level 1\nDivorce Options Roadmap\nCo-parent Coaching Applications\nTailored Parenting Plan Development\nDivorce Financial Literacy\nOverview of Conscious Uncoupling\nInsights into Attachment Ruptures and Somatic Experiencing in Divorce\nAnd so much more!
URL:https://collaborativelaw.org/event/certified_parent_team_expert_training/
LOCATION:Virtual
CATEGORIES:IACP Training
ATTACH;FMTTYPE=image/png:https://collaborativelaw.org/wp-content/uploads/2024/07/IACP-Training-Event-calendar-Post-1200x1200px.png
END:VEVENT
BEGIN:VEVENT
DTSTART;TZID=America/Indiana/Knox:20250710T180000
DTEND;TZID=America/Indiana/Knox:20250710T200000
DTSTAMP:20260419T103112
CREATED:20250505T164743Z
LAST-MODIFIED:20250616T191241Z
UID:10231-1752170400-1752177600@collaborativelaw.org
SUMMARY:CLI Summer Social (Click here for details)
DESCRIPTION:Click here to register \nDate: Thursday\, July 10\, 2025Time: 6:00pm – 8:00pmBoarding begins at 5:45pm\, departure 6pmCost: $45 per personLocation: Lady of the Lake docked at 8 Water Street\, Excelsior\, MN 55331Parking: Metered parking available in front of the boat\, or free municipal parking lots within short walking distance.Who should attend: CLI members\, new members\, prospective members and guests \nSponsorship | $250One free attendeeSponsor recognition in all Summer Social marketing \nHosted by the CLI Membership Committee:Membership Chair Brian Burns | brian@mnrelationshiprepair.comFor questions on registration contact: Sandy Beeson: cli@collaborativelaw.org \nSummer Social Sponsors: \nCarl Arnold\, J.D.Arnold Law and Mediation LLC | www.arnoldlawmediation.com \nBrian Burns\, Discernment Counselor\, Family SpecialistMN Relationship Repair | www.mnrelationshiprepair.com \nBrett Jensen\, CDFA®Strategic Mediation Solutions | www.strategicmediationsolutions.com \nJudy Johnson\, Attorney | www.collaborativedivorceminnesota.com \nJillian Lydell\, Certified Professional Divorce Coach & Qualified Neutral – Mediator | Cultivating Joy LLC |www.cultivatingjoycoach.com \nBrittany Stephens Pearson and Becky Owen\, AttorneysPearson Owen | www.pearsonowen.com \nAmy Wolff\, CFP®\, CDFA®AJW Financial\, Inc. | www.ajwfinancial.com
URL:https://collaborativelaw.org/event/social-cruise-on-lake-minnetonka/
LOCATION:Lady of the Lake\, 8 Water Street\, Excelsior\, MN\, 55331\, United States
CATEGORIES:Social
ATTACH;FMTTYPE=image/png:https://collaborativelaw.org/wp-content/uploads/2025/03/Social-7.10.25-1200x1200px.png
END:VEVENT
BEGIN:VEVENT
DTSTART;TZID=America/Indiana/Knox:20250911T090000
DTEND;TZID=America/Indiana/Knox:20250911T120000
DTSTAMP:20260419T103112
CREATED:20250519T202756Z
LAST-MODIFIED:20250519T210348Z
UID:11276-1757581200-1757592000@collaborativelaw.org
SUMMARY:New Collaborative Experience TUNE-UP Training 2025 (Click here for details)
DESCRIPTION:Click here for details and to RSVP \nDate: September 11\, 2025Time: 9:00 AM-12NoonLocation: 3601 W. 76th St.\, Edina\, MN 55435\, Training Room #25Who should attend: CLI members who have taken the NCE training within the last three to five years.Continuing Education Credits: CE may or may not be available for this training.No fee to attend\, but registration is appreciated.Description: The tune-up training session will be based on a survey of attendees to learn where they feel additional instruction would be most helpful.Training Committee Chairs:Louise Livesay-Al | louise@thelawshopmn.comRebecca Randen | rebecca@randenlaw.com \nFor questions on registration contact: Sandy Beeson: cli@collaborativelaw.org \n 
URL:https://collaborativelaw.org/event/new-collaborative-experience-tune-up-training-2025/
LOCATION:CollabSuites\, 3601 W. 76th St.\, Edina\, MN\, 55435
CATEGORIES:Training
ATTACH;FMTTYPE=image/png:https://collaborativelaw.org/wp-content/uploads/2025/05/CLI-MN-NCE-Training-2025-Tune-up-LinkedIn-Post.png
END:VEVENT
BEGIN:VEVENT
DTSTART;TZID=America/Chicago:20250912T120000
DTEND;TZID=America/Chicago:20250912T130000
DTSTAMP:20260419T103112
CREATED:20250130T154921Z
LAST-MODIFIED:20250910T192924Z
UID:11005-1757678400-1757682000@collaborativelaw.org
SUMMARY:MSBA | Webinar on Collaborative Practice (Click here for details)
DESCRIPTION:Register here\n			\n				\n				\n				\n				\n				  \nWebinar Presented by CLI Members Angela Heart & Rebecca Randen \nTopic: Collaborative Family Law: When\, Why and How to Offer ItDate: Friday\, September 12\, 2025Time: 12pmEvent location: VirtualSpeakers:Rebecca Randen\, Family Law and Collaborative AttorneyAngela Heart\, Family Law and Collaborative AttorneyDescription:An introduction to Collaborative Law for attorneys looking to expand their family law practice options. Learn what makes collaborative practice unique\, when to recommend it to clients\, and practical tools for implementation. This session addresses common misconceptions and provides consultation frameworks for presenting collaborative law as part of your comprehensive client services.Attendance fee:$15 for MSBA members\, $50 for nonmembers\, Free for Section MembersDetails and registration:https://mnbars.org/?pg=events&evAction=showDetail&eid=309200 \nWho should attend this event?:Attorneys interested utilizing Collaborative Law
URL:https://collaborativelaw.org/event/collaborative-family-law-when-why-and-how-to-offer-it/
LOCATION:Virtual
CATEGORIES:IACP Training
ATTACH;FMTTYPE=image/png:https://collaborativelaw.org/wp-content/uploads/2025/01/Webinar-9.12.25-calendar-Post-1200x1200px.png
END:VEVENT
BEGIN:VEVENT
DTSTART;TZID=America/Indiana/Knox:20250924T120000
DTEND;TZID=America/Indiana/Knox:20250924T130000
DTSTAMP:20260419T103112
CREATED:20250327T170017Z
LAST-MODIFIED:20250909T171505Z
UID:11086-1758715200-1758718800@collaborativelaw.org
SUMMARY:Collaborative Divorce 101 Webinar | September 24\, 2025 (Click here for details)
DESCRIPTION:Free WebinarEvent: Collaborative Law Process 101 | WebinarDate: September 24\, 2025Time: 12:00 PM- 1:00PMSpeakers:Jillian Lydell – Certified Trauma Informed Divorce\, Divorce Recovery CoachLauren Schnobrich\, AttorneyDescription: Overview of the collaborative law process and special considerations for practitionersAttendance fee: FreeWho should attend this event?:This is a community event for people who are interested in learning more about the collaborative process.Join Zoom Meeting:https://us02web.zoom.us/j/89607399308?pwd=bQThfNY2ZzlEhe0wB0zI8TJeMUoKiw.1Meeting ID: 896 0739 9308Passcode: DivorceEvent contacts:Jillian Lydell\, Certified Trauma Informed Divorce\, Divorce Recovery Coachjillian@cultivatingjoycoach.comLauren Schnobrich\, Attorney | lauren@schnobrichstreit.com \nSponsored by the Collaborative Law Institute of Minnesota: www.collaborativelaw.org
URL:https://collaborativelaw.org/event/collaborative-divorce-101-webinar/
LOCATION:Virtual
CATEGORIES:Training about Collaborative Divorce
ATTACH;FMTTYPE=image/png:https://collaborativelaw.org/wp-content/uploads/2025/03/CD-101-Webinar-9.24.25-LinkedIn-Post.png
ORGANIZER;CN="CLI MN Public Education Committee":MAILTO:cli@collaborativelaw.org
END:VEVENT
BEGIN:VEVENT
DTSTART;VALUE=DATE:20251204
DTEND;VALUE=DATE:20251206
DTSTAMP:20260419T103112
CREATED:20250228T150055Z
LAST-MODIFIED:20251120T030215Z
UID:9515-1764806400-1764979199@collaborativelaw.org
SUMMARY:CLI-MN | Forum 2025 (Click here for details)
DESCRIPTION:Click here to register\n			\n				\n				\n				\n				\n				What: CLI Minnesota Forum 2025Dates & Times:Thursday\, December 4\, 2025 Friday\, December 5\, 2025Location: Delta Marriott NE | 1330 Industrial Blvd. NE\, Minneapolis\, MN 55413Speakers: Tim Crouch\, Camille Milner\, Sebastian Dziuk\, Panel of CLI MembersAgenda:  Click here \nCLI Forum 2025 Committee Chair:Judy Johnson | judith_h_johnson@hotmail.comCommittee Members: Deb Clemmensen\, Janna Hefty\, Dave Jamison\, Brittany Pearson\, Shaina Praska\, Rebecca Randen\, Gay Rosenthal\, Laura Schultz\, Sandy Beeson \nSponsorships are available for the Annual Forum. Click here \nFORUM 2025 PARTNERS & SPONSORSVisit our Annual Partner page – Click here \nSponsors Supporting the CLI Mission and Forum 2025 \nAnnual Platinum PartnerRainbow Mortgage\, Inc.| www.rainbowmortgageinc.com | Dave Jamison \nAnnual Gold PartnersOurFamilyWizard | www.ourfamilywizard.com| Racheal HowitzStrategic Mediation Solutions | www.strategicmediationsolutions.com | Brett JensenReMax Results | www.ShannonLindstromRealtor.com | Shannon Lindstrom \nAnnual Silver SponsorsResource Mortgage\, LLC |www.mortgageforest.com | Brett LeschinskyEdina Realty | www.edinarealty.com/jennifer-morris-realtor#  | Jennifer Morris \nForum Sponsors 2025Speaker SponsorsThe Law Shop | www.thelawshopmn.com | Louise LivesayAncona Title & Escrow | www.anconatitle.com | Ryan BrownPartwise | www.kmfamilylaw.com | Kimberly Miller \nForum Packet SponsorMiroslavich Law PLLC |www.miroslavichlaw.com | Melissa Miroslavich \nSupporting SponsorMill City Appraisals | www.millcityappraisals.com | Kyle Engdahl \nForum Scholarship SponsorEdina Realty | www.edinarealty.com/jennifer-morris-realtor#  | Jennifer Morris  \nExhibit SponsorEngel & Volkers | www.lindseysharp.evrealestate.com | Lindsey Sharp \nBuffet SponsorsCultivating Joy | Jillian LydellKQ Consulting\, LLC | Kirstina QuastColab Suites | Kari McGuireHDV Financial | Carol DeWittCrossCountry Mortgage | Jeff Vorlicky \nHappy Hour SponsorXBrezzo | www.xbrezzo.com | Kimberly Miller \nMill City Hot Jazz/Happy Hour Entertainment SponsorRanden Law | www.randenlaw.com | Rebecca Randen \nForum Evening Social SponsorAJW Financial\, Inc. | www.ajwfinancial.com | Amy Wolff \nIf you have questions on registration or sponsorship\, please call or email CLI Minnesota Admin Sandy Beeson at 952.405.2010 or cli@collaborativelaw.org
URL:https://collaborativelaw.org/event/cli-mn-forum-2025/
LOCATION:Delta Marriott NE\, 1330 Industrial Blvd. NE\, Minneapolis\, 55413\, United States
CATEGORIES:Event
ATTACH;FMTTYPE=image/png:https://collaborativelaw.org/wp-content/uploads/2025/02/Forum-2025-Calendar-Post-1200x1200-1.png
END:VEVENT
BEGIN:VEVENT
DTSTART;TZID=America/Indiana/Knox:20260114T090000
DTEND;TZID=America/Indiana/Knox:20260114T160000
DTSTAMP:20260419T103112
CREATED:20260107T223736Z
LAST-MODIFIED:20260107T230659Z
UID:11810-1768381200-1768406400@collaborativelaw.org
SUMMARY:Board & Member Retreat (Click here for details)
DESCRIPTION:Click here for details and to RSVP \nCLI-MN Board and Member Retreat \nDate: Wednesday\, January 14\, 2026Location: Colab Suites | 7650 Edinborough Way\, Edina\, MN 55435Training Room #330Who: 2026 Board Members and all CLI MembersMenu: AM refreshments and buffet lunchTime:2026 Board Members Only | 9:00 AM – 12:00 PM8:30 AM – 9:00 AM | Morning Refreshments9:00 AM – 12:00 PM | CLI 2026 Board of Directors Planning Session \nAll CLI Membership Welcome | 12:00 PM – 4:00 PM12:15 PM – 12:30pm Lunch served12:30 PM – 4:00 PM | CLI Board and Members \nNo fee to attendRSVP requested for planning and food & beverage counts \nJanna Hefty | janna@harmonylegalmn.comKatrina Viegas | kviegas@btolawyers.comSandy Beeson | cli@collaborativelaw.org \nRETREAT SPONSORAnnual CLI-MN Silver Partner Jennifer Morris | Realtor952-937-8600 | JenniferMorris@EdinaRealty.comwww.edinarealty.com/jennifer-morris-realtor# \nMy team and I provide professional real estate services serving Minneapolis\, St. Paul and the metro counties. Contact me for a complimentary market analysis of your home.
URL:https://collaborativelaw.org/event/board-member-retreat-click-here-for-details/
LOCATION:CollabSuites\, 3601 W. 76th St.\, Edina\, MN\, 55435
CATEGORIES:Training
ATTACH;FMTTYPE=image/png:https://collaborativelaw.org/wp-content/uploads/2023/12/2026-Board-Retreat-Calendar-Graphic.png
END:VEVENT
BEGIN:VEVENT
DTSTART;TZID=America/Indiana/Knox:20260212T150000
DTEND;TZID=America/Indiana/Knox:20260212T180000
DTSTAMP:20260419T103112
CREATED:20250107T151933Z
LAST-MODIFIED:20260107T230147Z
UID:11775-1770908400-1770919200@collaborativelaw.org
SUMMARY:Film Presentation (Click here for details)
DESCRIPTION:Click here for details and to Register \nSplit Up – The Teen Years | A film presentation \nDate: February 12\, 2026Location: Colab Suites | 7650 Edinborough Way\, Edina\, MN 55435 | Meeting\, Room #330Schedule:3:00 PM – Arrival3:15 PM – Film Screening (50-minutes)4:00 PM – Group Discussion Moderated by Deb Clemmensen4:00 PM – Happy Hour hosted by Rebecca RandenFee:CLI Members: $20 (Discount at registration form for Emeritus and Student Members)Nonmembers $30Description: Split Up – The Teen Years is a ground-breaking documentary that reunites 12 young people\, ten years after their parents’ divorce\, as they reflect on their childhood experiences. The film offers an emotional and practical roadmap for teens navigating divorce\, while serving as a powerful cautionary tale for divorcing parents.Cancellation:  Refunds for registration will be processed if notice of cancellation is received by 2/6/26.Who Should Attend: CLI Members\, Family Law ProfessionalsEducational Level: Overview \nQuestions?Registration: Sandy Beeson 952.405.2010 | cli@collaborativelaw.orgTraining Chairs:Louise Livesay-Al | louise@thelawshop.comRebecca Randen | rebecca@randenlaw.com \n 
URL:https://collaborativelaw.org/event/split-up-the-teen-years-a-film-presentation/
LOCATION:CollabSuites\, 3601 W. 76th St.\, Edina\, MN\, 55435
CATEGORIES:Training
ATTACH;FMTTYPE=image/png:https://collaborativelaw.org/wp-content/uploads/2025/12/Split-Film-2.12.26-LinkedIn-1200x1200px.png
END:VEVENT
BEGIN:VEVENT
DTSTART;VALUE=DATE:20260221
DTEND;VALUE=DATE:20280101
DTSTAMP:20260419T103112
CREATED:20260221T200717Z
LAST-MODIFIED:20260221T201655Z
UID:11966-1771632000-1830297599@collaborativelaw.org
SUMMARY:IACP Calendar Link
DESCRIPTION:Click here to access the IACP events calendar
URL:https://collaborativelaw.org/event/iacp-calendar-link/
CATEGORIES:IACP Training,Training
ATTACH;FMTTYPE=image/png:https://collaborativelaw.org/wp-content/uploads/2026/02/IACP-Event-Calendar-calendar-Post-1200x1200px.png
END:VEVENT
BEGIN:VEVENT
DTSTART;TZID=America/Indiana/Knox:20260416T083000
DTEND;TZID=America/Indiana/Knox:20260424T163000
DTSTAMP:20260419T103112
CREATED:20250519T140017Z
LAST-MODIFIED:20260411T220504Z
UID:8525-1776328200-1777048200@collaborativelaw.org
SUMMARY:New Collaborative Experience Training 2026
DESCRIPTION:Click here to register \nDates: Three full-days basic training + Tune-up in September.Thursday\, April 16\, 2026 (Happy Hour end of day Thursday scheduled for attendees at location TBD)Friday\, April 17\, 2026Friday\, April 24\, 2026Time: 8:30-4:30 (Detailed timing and agenda TBD)Location:  7650 W 76th St\, Training Room #330\, Edina\, MN 55435 \n*Attendees must attend all sessions in order to complete the training and satisfy CLI membership requirements. \nAttendance Fees:Members of CLI MN:CLI MN members who have NOT taken this training before: $350CLI MN members who have taken this training but would like a refresher: $150 (Please email cli@collaborativelaw.org for your registration code for this pricing.)CLI MN Student members: $200.00CLI MN Emeritus: $0CLI MN Annual Partners: $350.00 \nNon-CLI MN members: $645Not a member of CLI MN? (You will have the option of joining CLI MN at the selected member category rate and then attending the basic training for $350)Student – Not a member of CLI: $200 \n**Discount Code: If you have a discount code to attend the training\, you will enter it prior to checking out. \nContinuing Education Credits: Pending approval of 18 Standard credits for: CLE\, Board of Psychology\, and LMFT. A certificate of attendance for self-filling of other credentials will also be provided. \nCancellation: Refunds for registration will be processed if notice of cancellation is received by April 10\, 2026. \nNote: If fewer than five registrants sign-up for the training\, the training will be cancelled and paid registrants will be refunded. Deadline to register is April 10th. \nDescription:Day I: Training on collaborative practice principles and fundamentals\, the roles of the professionals on the interdisciplinary team\, the paradigm shift\, protocols of practice\, the road map to resolution\, and ethics.Day II: A demonstration of the collaborative model\, one involving a neutral coach/facilitator through performances of 13 vignettes depicting a full-team collaborative case from start to almost finish. The vignettes will give detailed insight into the roles of the neutral coach/facilitator\, both attorneys\, the neutral child specialist\, and the neutral financial professional. The different clients in the vignettes present the team with challenging legal\, relational\, financial\, and parenting issues. The performance will be instructive\, practical\, and hopefully\, inspirational. Day 2 is informative for the experienced collaborative practitioner as well as the new collaborative practitioner. \nDay III: Focuses on completing a case\, advocacy\, and ethics in the Collaborative process\, what happens when you hit bumps in the road\, talking to clients about this process\, connecting with your profession and resources to build your practice. \nEducational Level: Advanced \nTune-Up Training: September 17\, 2026\, 9:00 AM – Noon will be based on a survey of attendees to learn where they feel additional instruction would be most helpful. (This follow-up session may or may not be additional CE credits.) \nTraining Committee Chairs:Louise Livesay-Al | louise@thelawshopmn.comRebecca Randen | rebecca@randenlaw.comFor questions on registration contact: Sandy Beeson: cli@collaborativelaw.org \n  \n 
URL:https://collaborativelaw.org/event/collaborative-law-institute-minnesota-basic-collaborative-training/
LOCATION:Edina Training Facility #330\, 7650 W. 76th Street\, #330\, Edina\, Minnesota\, 55435
CATEGORIES:Training
ATTACH;FMTTYPE=image/png:https://collaborativelaw.org/wp-content/uploads/2025/05/CLI-MN-NCE-Training-2026-Registration-Open-LinkedIn-Post.png
END:VEVENT
BEGIN:VEVENT
DTSTART;TZID=America/Indiana/Knox:20260716T150000
DTEND;TZID=America/Indiana/Knox:20260716T200000
DTSTAMP:20260419T103112
CREATED:20260221T184437Z
LAST-MODIFIED:20260221T201118Z
UID:11959-1784214000-1784232000@collaborativelaw.org
SUMMARY:Summer Social - SAVE THE DATE
DESCRIPTION:
URL:https://collaborativelaw.org/event/annual-summer-membership-social/
CATEGORIES:Member Social,Training
ATTACH;FMTTYPE=image/png:https://collaborativelaw.org/wp-content/uploads/2026/02/2026-Summer-Social-Save-the-Date.png
END:VEVENT
END:VCALENDAR