BEGIN:VCALENDAR
VERSION:2.0
PRODID:-//Collaborative Law Institute - ECPv6.8.3//NONSGML v1.0//EN
CALSCALE:GREGORIAN
METHOD:PUBLISH
X-WR-CALNAME:Collaborative Law Institute
X-ORIGINAL-URL:https://collaborativelaw.org
X-WR-CALDESC:Events for Collaborative Law Institute
REFRESH-INTERVAL;VALUE=DURATION:PT1H
X-Robots-Tag:noindex
X-PUBLISHED-TTL:PT1H
BEGIN:VTIMEZONE
TZID:America/Indiana/Knox
BEGIN:DAYLIGHT
TZOFFSETFROM:-0600
TZOFFSETTO:-0500
TZNAME:CDT
DTSTART:20250309T080000
END:DAYLIGHT
BEGIN:STANDARD
TZOFFSETFROM:-0500
TZOFFSETTO:-0600
TZNAME:CST
DTSTART:20251102T070000
END:STANDARD
END:VTIMEZONE
BEGIN:VEVENT
DTSTART;TZID=America/Indiana/Knox:20250911T090000
DTEND;TZID=America/Indiana/Knox:20250911T120000
DTSTAMP:20260420T091610
CREATED:20250519T202756Z
LAST-MODIFIED:20250519T210348Z
UID:11276-1757581200-1757592000@collaborativelaw.org
SUMMARY:New Collaborative Experience TUNE-UP Training 2025 (Click here for details)
DESCRIPTION:Click here for details and to RSVP \nDate: September 11\, 2025Time: 9:00 AM-12NoonLocation: 3601 W. 76th St.\, Edina\, MN 55435\, Training Room #25Who should attend: CLI members who have taken the NCE training within the last three to five years.Continuing Education Credits: CE may or may not be available for this training.No fee to attend\, but registration is appreciated.Description: The tune-up training session will be based on a survey of attendees to learn where they feel additional instruction would be most helpful.Training Committee Chairs:Louise Livesay-Al | louise@thelawshopmn.comRebecca Randen | rebecca@randenlaw.com \nFor questions on registration contact: Sandy Beeson: cli@collaborativelaw.org \n 
URL:https://collaborativelaw.org/event/new-collaborative-experience-tune-up-training-2025/
LOCATION:CollabSuites\, 3601 W. 76th St.\, Edina\, MN\, 55435
CATEGORIES:Training
ATTACH;FMTTYPE=image/png:https://collaborativelaw.org/wp-content/uploads/2025/05/CLI-MN-NCE-Training-2025-Tune-up-LinkedIn-Post.png
END:VEVENT
BEGIN:VEVENT
DTSTART;TZID=America/Indiana/Knox:20250924T120000
DTEND;TZID=America/Indiana/Knox:20250924T130000
DTSTAMP:20260420T091610
CREATED:20250327T170017Z
LAST-MODIFIED:20250909T171505Z
UID:11086-1758715200-1758718800@collaborativelaw.org
SUMMARY:Collaborative Divorce 101 Webinar | September 24\, 2025 (Click here for details)
DESCRIPTION:Free WebinarEvent: Collaborative Law Process 101 | WebinarDate: September 24\, 2025Time: 12:00 PM- 1:00PMSpeakers:Jillian Lydell – Certified Trauma Informed Divorce\, Divorce Recovery CoachLauren Schnobrich\, AttorneyDescription: Overview of the collaborative law process and special considerations for practitionersAttendance fee: FreeWho should attend this event?:This is a community event for people who are interested in learning more about the collaborative process.Join Zoom Meeting:https://us02web.zoom.us/j/89607399308?pwd=bQThfNY2ZzlEhe0wB0zI8TJeMUoKiw.1Meeting ID: 896 0739 9308Passcode: DivorceEvent contacts:Jillian Lydell\, Certified Trauma Informed Divorce\, Divorce Recovery Coachjillian@cultivatingjoycoach.comLauren Schnobrich\, Attorney | lauren@schnobrichstreit.com \nSponsored by the Collaborative Law Institute of Minnesota: www.collaborativelaw.org
URL:https://collaborativelaw.org/event/collaborative-divorce-101-webinar/
LOCATION:Virtual
CATEGORIES:Training about Collaborative Divorce
ATTACH;FMTTYPE=image/png:https://collaborativelaw.org/wp-content/uploads/2025/03/CD-101-Webinar-9.24.25-LinkedIn-Post.png
ORGANIZER;CN="CLI MN Public Education Committee":MAILTO:cli@collaborativelaw.org
END:VEVENT
END:VCALENDAR